BEGIN:VCALENDAR
VERSION:2.0
PRODID:-//Plone.org//NONSGML plone.app.event//EN
X-WR-TIMEZONE:Brazil/East
BEGIN:VEVENT
SUMMARY:PREGÃO nº 002/2026 - na forma Presencial. TIPO: MENOR PREÇO –
  POR ITEM - 05/05/2026 - 08h:00min
DTSTART;VALUE=DATE:20260505
DTEND;VALUE=DATE:20260506
DTSTAMP;VALUE=DATE-TIME:20260423T131437Z
UID:a56e32e5e99d483996c3c699477d10f2@www.urucuia.mg.leg.br
CREATED;VALUE=DATE-TIME:20260423T123832Z
LAST-MODIFIED;VALUE=DATE-TIME:20260423T123836Z
URL:https://www.urucuia.mg.leg.br/eventos/pregao-no-002-2026-na-forma-pres
 encial-tipo-menor-preco-2013-por-item-05-05-2026-08h-00min
END:VEVENT
END:VCALENDAR
