BEGIN:VCALENDAR
VERSION:2.0
PRODID:-//Plone.org//NONSGML plone.app.event//EN
X-WR-TIMEZONE:Brazil/East
BEGIN:VEVENT
SUMMARY:Veículo em viagem a cidade de Brasíia-DF - 11/03/2026
DTSTART;VALUE=DATE:20260311
DTEND;VALUE=DATE:20260312
DTSTAMP;VALUE=DATE-TIME:20260424T230203Z
UID:f3e57d58c50642fcbae948e99ca52fa7@www.urucuia.mg.leg.br
CREATED;VALUE=DATE-TIME:20260310T111742Z
LAST-MODIFIED;VALUE=DATE-TIME:20260310T111829Z
URL:https://www.urucuia.mg.leg.br/agenda-de-veiculos/eventos/viagem-a-cida
 de-de-brasiia-df-11-03-2026
END:VEVENT
END:VCALENDAR
