BEGIN:VCALENDAR
VERSION:2.0
PRODID:-//Plone.org//NONSGML plone.app.event//EN
X-WR-TIMEZONE:Brazil/East
BEGIN:VEVENT
SUMMARY:Reunião da Comissão de Finanças\, Orçamentos e Tomadas de Cont
 as - 09h - 22/04/2026
DTSTART;VALUE=DATE:20260422
DTEND;VALUE=DATE:20260423
DTSTAMP;VALUE=DATE-TIME:20260422T200137Z
UID:48db727886e64c77a79aea4523970e72@www.urucuia.mg.leg.br
CREATED;VALUE=DATE-TIME:20260422T112726Z
LAST-MODIFIED;VALUE=DATE-TIME:20260422T112859Z
URL:https://www.urucuia.mg.leg.br/eventos/reuniao-da-comissao-de-financas-
 orcamentos-e-tomadas-de-contas-09h
END:VEVENT
BEGIN:VEVENT
SUMMARY:Reunião da Comissão de Serviços Públicos Municipais - 10h - 22
 /04/2026
DTSTART;VALUE=DATE:20260422
DTEND;VALUE=DATE:20260423
DTSTAMP;VALUE=DATE-TIME:20260422T200137Z
UID:4cdd8bebef2a4c19810102086b07d5c6@www.urucuia.mg.leg.br
CREATED;VALUE=DATE-TIME:20260422T112816Z
LAST-MODIFIED;VALUE=DATE-TIME:20260422T112819Z
URL:https://www.urucuia.mg.leg.br/eventos/reuniao-da-comissao-de-servicos-
 publicos-municipais-10h-22-04-2026
END:VEVENT
BEGIN:VEVENT
SUMMARY:Veículo em viagem a cidade de Goiânia-GO  - 22/04/2026
DTSTART;VALUE=DATE:20260422
DTEND;VALUE=DATE:20260423
DTSTAMP;VALUE=DATE-TIME:20260422T200137Z
UID:dd2b61ba6d9f4bd4a25bdf6cba50b22d@www.urucuia.mg.leg.br
CREATED;VALUE=DATE-TIME:20260422T154351Z
LAST-MODIFIED;VALUE=DATE-TIME:20260422T154355Z
URL:https://www.urucuia.mg.leg.br/agenda-de-veiculos/eventos/veiculo-em-vi
 agem-a-cidade-de-goiania-go-22-04-2026
END:VEVENT
END:VCALENDAR
